BEGIN:VCALENDAR
VERSION:2.0
METHOD:PUBLISH
BEGIN:VEVENT
DTSTART:20240913T140000Z
DTEND:20240914T190000Z
LOCATION:Oshkosh, WI 54904
TRANSP: OPAQUE
SEQUENCE:0
UID:
DTSTAMP:20260423T101524Z
SUMMARY:Oshkosh Estate Sale by "The Missing Piece" FRI 9/13 and SAT 9/14 - 9AM
DESCRIPTION:Oshkosh Estate Sale by "The Missing Piece" FRI 9/13 and SAT 9/14 - 9AM Greg Willett Antiques and Estate Sales 
UID:1776960924
STREET-ADDRESS:See website
POSTAL-CODE:54904
LOCALITY:Oshkosh
REGION:ABBREV=WI
COUNTRY:ABBREV=US;ABBREV=USA:United States
URL;TYPE=Event Listing:https://estatesales.org/estate-sales/wi/oshkosh-/54904/oshkosh-estate-sale-by-the-2338694
PRIORITY:1
CLASS:PUBLIC
SEQUENCE:0
STATUS:CONFIRMED
TRANSP:OPAQUE
END:VEVENT
END:VCALENDAR
