BEGIN:VCALENDAR
VERSION:2.0
METHOD:PUBLISH
BEGIN:VEVENT
DTSTART:20240913T150000Z
DTEND:20240915T210000Z
LOCATION:Riverside, CA 92506
TRANSP: OPAQUE
SEQUENCE:0
UID:
DTSTAMP:20260419T223742Z
SUMMARY:Nice Riverside Sale!
DESCRIPTION:Nice Riverside Sale! Estate Sales by Dee 
UID:1776659862
STREET-ADDRESS:See website
POSTAL-CODE:92506
LOCALITY:Riverside
REGION:ABBREV=CA
COUNTRY:ABBREV=US;ABBREV=USA:United States
URL;TYPE=Event Listing:https://estatesales.org/estate-sales/ca/riverside/92506/nice-riverside-sale-2338668
PRIORITY:1
CLASS:PUBLIC
SEQUENCE:0
STATUS:CONFIRMED
TRANSP:OPAQUE
END:VEVENT
END:VCALENDAR
