BEGIN:VCALENDAR
VERSION:2.0
METHOD:PUBLISH
BEGIN:VEVENT
DTSTART:20140913T170000Z
DTEND:20140915T230000Z
LOCATION:Encino, CA 91316
TRANSP: OPAQUE
SEQUENCE:0
UID:
DTSTAMP:20260424T202550Z
SUMMARY:Encino ““ Amestoy Estates ““ Bianca Ave Cul-de-Sac
DESCRIPTION:Encino ““ Amestoy Estates ““ Bianca Ave Cul-de-Sac Sharon Yost Estate Sales 
UID:1777083950
STREET-ADDRESS:See website
POSTAL-CODE:91316
LOCALITY:Encino
REGION:ABBREV=CA
COUNTRY:ABBREV=US;ABBREV=USA:United States
URL;TYPE=Event Listing:https://estatesales.org/estate-sales/ca/encino/91316/encino-amestoy-estates-bianca-ave-449249
PRIORITY:1
CLASS:PUBLIC
SEQUENCE:0
STATUS:CONFIRMED
TRANSP:OPAQUE
END:VEVENT
END:VCALENDAR
