BEGIN:VCALENDAR
VERSION:2.0
METHOD:PUBLISH
BEGIN:VEVENT
DTSTART:20250912T150000Z
DTEND:20250913T190000Z
LOCATION:Oklahoma City, OK 73170
TRANSP: OPAQUE
SEQUENCE:0
UID:
DTSTAMP:20260425T113009Z
SUMMARY:South OKC Estate Sale
DESCRIPTION:South OKC Estate Sale Vincent Estate Sales 
UID:1777138209
STREET-ADDRESS:See website
POSTAL-CODE:73170
LOCALITY:Oklahoma City
REGION:ABBREV=OK
COUNTRY:ABBREV=US;ABBREV=USA:United States
URL;TYPE=Event Listing:https://estatesales.org/estate-sales/ok/oklahoma-city/73170/south-okc-estate-sale-2400406
PRIORITY:1
CLASS:PUBLIC
SEQUENCE:0
STATUS:CONFIRMED
TRANSP:OPAQUE
END:VEVENT
END:VCALENDAR
