BEGIN:VCALENDAR
VERSION:2.0
METHOD:PUBLISH
BEGIN:VEVENT
DTSTART:20250912T210000Z
DTEND:20250913T010000Z
LOCATION:Atkinson, NC 28421
TRANSP: OPAQUE
SEQUENCE:0
UID:
DTSTAMP:20260423T090428Z
SUMMARY:Annual Country Store, Boy Toy & Man Cave Auction
DESCRIPTION:Annual Country Store, Boy Toy & Man Cave Auction Port City Auctions 
UID:1776956668
STREET-ADDRESS:See website
POSTAL-CODE:28421
LOCALITY:Atkinson
REGION:ABBREV=NC
COUNTRY:ABBREV=US;ABBREV=USA:United States
URL;TYPE=Event Listing:https://estatesales.org/estate-sales/nc/atkinson/28421/annual-country-store-boy-toy-2357909
PRIORITY:1
CLASS:PUBLIC
SEQUENCE:0
STATUS:CONFIRMED
TRANSP:OPAQUE
END:VEVENT
END:VCALENDAR
