BEGIN:VCALENDAR
VERSION:2.0
METHOD:PUBLISH
BEGIN:VEVENT
DTSTART:20150912T150000Z
DTEND:20150912T210000Z
LOCATION:Calais, ME 04619
TRANSP: OPAQUE
SEQUENCE:0
UID:
DTSTAMP:20260419T183233Z
SUMMARY:THE JEFF WRIGHT ON-SITE ESTATE AUCTION - UNDER THE TENTS
DESCRIPTION:THE JEFF WRIGHT ON-SITE ESTATE AUCTION - UNDER THE TENTS PICADILLY PLACE AUCTION GALLERY and ESTATE SALES 
UID:1776645153
STREET-ADDRESS:See website
POSTAL-CODE:04619
LOCALITY:Calais
REGION:ABBREV=ME
COUNTRY:ABBREV=US;ABBREV=USA:United States
URL;TYPE=Event Listing:https://estatesales.org/estate-sales/me/calais/04619/the-jeff-wright-onsite-estate-668865
PRIORITY:1
CLASS:PUBLIC
SEQUENCE:0
STATUS:CONFIRMED
TRANSP:OPAQUE
END:VEVENT
END:VCALENDAR
