BEGIN:VCALENDAR
VERSION:2.0
METHOD:PUBLISH
BEGIN:VEVENT
DTSTART:20250911T140000Z
DTEND:20250913T200000Z
LOCATION:Owasso, OK 74055
TRANSP: OPAQUE
SEQUENCE:0
UID:
DTSTAMP:20260424T202745Z
SUMMARY:50% Off Saturday!!! Awesome Owasso Household and Tool Sale
DESCRIPTION:50% Off Saturday!!! Awesome Owasso Household and Tool Sale Family Nest of Tulsa 
UID:1777084065
STREET-ADDRESS:See website
POSTAL-CODE:74055
LOCALITY:Owasso
REGION:ABBREV=OK
COUNTRY:ABBREV=US;ABBREV=USA:United States
URL;TYPE=Event Listing:https://estatesales.org/estate-sales/ok/owasso/74055/awesome-owasso-household-and-tool-2399820
PRIORITY:1
CLASS:PUBLIC
SEQUENCE:0
STATUS:CONFIRMED
TRANSP:OPAQUE
END:VEVENT
END:VCALENDAR
