BEGIN:VCALENDAR
VERSION:2.0
METHOD:PUBLISH
BEGIN:VEVENT
DTSTART:20250911T140000Z
DTEND:20250913T210000Z
LOCATION:Cambridge, WI 53523
TRANSP: OPAQUE
SEQUENCE:0
UID:
DTSTAMP:20260424T200453Z
SUMMARY:Executive Home Cambridge Estate Sale 9/11-9/13
DESCRIPTION:Executive Home Cambridge Estate Sale 9/11-9/13 Barth Estate Sales & Services LLC 
UID:1777082693
STREET-ADDRESS:See website
POSTAL-CODE:53523
LOCALITY:Cambridge
REGION:ABBREV=WI
COUNTRY:ABBREV=US;ABBREV=USA:United States
URL;TYPE=Event Listing:https://estatesales.org/estate-sales/wi/cambridge/53523/executive-home-cambridge-estate-sale-2399213
PRIORITY:1
CLASS:PUBLIC
SEQUENCE:0
STATUS:CONFIRMED
TRANSP:OPAQUE
END:VEVENT
END:VCALENDAR
