BEGIN:VCALENDAR
VERSION:2.0
METHOD:PUBLISH
BEGIN:VEVENT
DTSTART:20250911T150000Z
DTEND:20250913T190000Z
LOCATION:Oklahoma City, OK 73120
TRANSP: OPAQUE
SEQUENCE:0
UID:
DTSTAMP:20260425T113009Z
SUMMARY:Artsy Quail Creek OKC Sale
DESCRIPTION:Artsy Quail Creek OKC Sale Vincent Estate Sales 
UID:1777138209
STREET-ADDRESS:See website
POSTAL-CODE:73120
LOCALITY:Oklahoma City
REGION:ABBREV=OK
COUNTRY:ABBREV=US;ABBREV=USA:United States
URL;TYPE=Event Listing:https://estatesales.org/estate-sales/ok/oklahoma-city/73120/artsy-quail-creek-okc-sale-2399443
PRIORITY:1
CLASS:PUBLIC
SEQUENCE:0
STATUS:CONFIRMED
TRANSP:OPAQUE
END:VEVENT
END:VCALENDAR
