BEGIN:VCALENDAR
VERSION:2.0
METHOD:PUBLISH
BEGIN:VEVENT
DTSTART:20210911T160000Z
DTEND:20210912T210000Z
LOCATION:Arcadia, CA 91007
TRANSP: OPAQUE
SEQUENCE:0
UID:
DTSTAMP:20260420T021113Z
SUMMARY:Mid Century, Cars, Coins, Tons of Tools, Collector Items,  CB Radio's, Lots More! Packed House- kitchen AND garage
DESCRIPTION:Mid Century, Cars, Coins, Tons of Tools, Collector Items,  CB Radio's, Lots More! Packed House- kitchen AND garage Triumphant Estate Sales of Los Angeles 
UID:1776672673
STREET-ADDRESS:See website
POSTAL-CODE:91007
LOCALITY:Arcadia
REGION:ABBREV=CA
COUNTRY:ABBREV=US;ABBREV=USA:United States
URL;TYPE=Event Listing:https://estatesales.org/estate-sales/ca/arcadia/91007/mid-century-cars-coins-tons-1953923
PRIORITY:1
CLASS:PUBLIC
SEQUENCE:0
STATUS:CONFIRMED
TRANSP:OPAQUE
END:VEVENT
END:VCALENDAR
