BEGIN:VCALENDAR
VERSION:2.0
METHOD:PUBLISH
BEGIN:VEVENT
DTSTART:20210911T120000Z
DTEND:20210912T180000Z
LOCATION:New Kensington, PA 15068
TRANSP: OPAQUE
SEQUENCE:0
UID:
DTSTAMP:20260419T082702Z
SUMMARY:Estate Liquidation
DESCRIPTION:Estate Liquidation Williams & Barron Estate Services LLC 
UID:1776608822
STREET-ADDRESS:See website
POSTAL-CODE:15068
LOCALITY:New Kensington
REGION:ABBREV=PA
COUNTRY:ABBREV=US;ABBREV=USA:United States
URL;TYPE=Event Listing:https://estatesales.org/estate-sales/pa/new-kensington/15068/estate-liquidation-1954795
PRIORITY:1
CLASS:PUBLIC
SEQUENCE:0
STATUS:CONFIRMED
TRANSP:OPAQUE
END:VEVENT
END:VCALENDAR
