BEGIN:VCALENDAR
VERSION:2.0
METHOD:PUBLISH
BEGIN:VEVENT
DTSTART:20150911T100000Z
DTEND:20150915T040000Z
LOCATION:By appointment only.
TRANSP: OPAQUE
SEQUENCE:0
UID:
DTSTAMP:20260421T055302Z
SUMMARY:CTOnline Auction in Auburn Hills, Michigan
DESCRIPTION:CTOnline Auction in Auburn Hills, Michigan Caring Transitions of Oakland County MI 
UID:1776772382
STREET-ADDRESS:See website
POSTAL-CODE:48326
LOCALITY:Auburn Hills
REGION:ABBREV=MI
COUNTRY:ABBREV=US;ABBREV=USA:United States
URL;TYPE=Event Listing:https://estatesales.org/estate-sales/mi/auburn-hills/48326/ctonline-auction-in-auburn-hills-672541
PRIORITY:1
CLASS:PUBLIC
SEQUENCE:0
STATUS:CONFIRMED
TRANSP:OPAQUE
END:VEVENT
END:VCALENDAR
