BEGIN:VCALENDAR
VERSION:2.0
METHOD:PUBLISH
BEGIN:VEVENT
DTSTART:20250910T150000Z
DTEND:20250911T210000Z
LOCATION:Sun City, AZ 85351
TRANSP: OPAQUE
SEQUENCE:0
UID:
DTSTAMP:20260424T180645Z
SUMMARY:***SIMPLY SPECTACULAR SALE IN SUN CITY***
DESCRIPTION:***SIMPLY SPECTACULAR SALE IN SUN CITY*** Anderson Family Estate Sales & Services, LLC 
UID:1777075605
STREET-ADDRESS:See website
POSTAL-CODE:85351
LOCALITY:Sun City
REGION:ABBREV=AZ
COUNTRY:ABBREV=US;ABBREV=USA:United States
URL;TYPE=Event Listing:https://estatesales.org/estate-sales/az/sun-city/85351/simply-spectacular-sale-in-sun-2399107
PRIORITY:1
CLASS:PUBLIC
SEQUENCE:0
STATUS:CONFIRMED
TRANSP:OPAQUE
END:VEVENT
END:VCALENDAR
