BEGIN:VCALENDAR
VERSION:2.0
METHOD:PUBLISH
BEGIN:VEVENT
DTSTART:20230910T150000Z
DTEND:20230910T210000Z
LOCATION:Maricopa, AZ 85138
TRANSP: OPAQUE
SEQUENCE:0
UID:
DTSTAMP:20260419T195044Z
SUMMARY:Estate Sale Maricopa
DESCRIPTION:Estate Sale Maricopa Arizona Finds 
UID:1776649844
STREET-ADDRESS:See website
POSTAL-CODE:85138
LOCALITY:Maricopa
REGION:ABBREV=AZ
COUNTRY:ABBREV=US;ABBREV=USA:United States
URL;TYPE=Event Listing:https://estatesales.org/estate-sales/az/maricopa/85138/estate-sale-maricopa-2230099
PRIORITY:1
CLASS:PUBLIC
SEQUENCE:0
STATUS:CONFIRMED
TRANSP:OPAQUE
END:VEVENT
END:VCALENDAR
