BEGIN:VCALENDAR
VERSION:2.0
METHOD:PUBLISH
BEGIN:VEVENT
DTSTART:20160910T190000Z
DTEND:20160911T010000Z
LOCATION:Scottsdale, AZ 85260
TRANSP: OPAQUE
SEQUENCE:0
UID:
DTSTAMP:20260423T101527Z
SUMMARY:Large Auction Over 400 Lots of Antiques Furniture Collectibles Jewelry Art And More
DESCRIPTION:Large Auction Over 400 Lots of Antiques Furniture Collectibles Jewelry Art And More Arizona Elite Auction House, LLC 
UID:1776960927
STREET-ADDRESS:See website
POSTAL-CODE:85260
LOCALITY:Scottsdale
REGION:ABBREV=AZ
COUNTRY:ABBREV=US;ABBREV=USA:United States
URL;TYPE=Event Listing:https://estatesales.org/estate-sales/az/scottsdale/85260/large-auction-over-400-lots-950913
PRIORITY:1
CLASS:PUBLIC
SEQUENCE:0
STATUS:CONFIRMED
TRANSP:OPAQUE
END:VEVENT
END:VCALENDAR
