BEGIN:VCALENDAR
VERSION:2.0
METHOD:PUBLISH
BEGIN:VEVENT
DTSTART:20160910T120000Z
DTEND:20160911T180000Z
LOCATION:Uncasville, CT 06382
TRANSP: OPAQUE
SEQUENCE:0
UID:
DTSTAMP:20260424T115754Z
SUMMARY:WW2 memorabilia, antiques, tools!!!
DESCRIPTION:WW2 memorabilia, antiques, tools!!! ACL Estate Services 
UID:1777053474
STREET-ADDRESS:See website
POSTAL-CODE:06382
LOCALITY:Uncasville
REGION:ABBREV=CT
COUNTRY:ABBREV=US;ABBREV=USA:United States
URL;TYPE=Event Listing:https://estatesales.org/estate-sales/ct/uncasville/06382/ww2-memorabilia-antiques-tools-975267
PRIORITY:1
CLASS:PUBLIC
SEQUENCE:0
STATUS:CONFIRMED
TRANSP:OPAQUE
END:VEVENT
END:VCALENDAR
