BEGIN:VCALENDAR
VERSION:2.0
METHOD:PUBLISH
BEGIN:VEVENT
DTSTART:20230909T130000Z
DTEND:20230910T170000Z
LOCATION:Syracuse, NY 13212
TRANSP: OPAQUE
SEQUENCE:0
UID:
DTSTAMP:20260423T074749Z
SUMMARY:North Syracuse Estate Sale
DESCRIPTION:North Syracuse Estate Sale Clear Horizon Estate Services 
UID:1776952069
STREET-ADDRESS:See website
POSTAL-CODE:13212
LOCALITY:Syracuse
REGION:ABBREV=NY
COUNTRY:ABBREV=US;ABBREV=USA:United States
URL;TYPE=Event Listing:https://estatesales.org/estate-sales/ny/syracuse/13212/north-syracuse-estate-sale-2228723
PRIORITY:1
CLASS:PUBLIC
SEQUENCE:0
STATUS:CONFIRMED
TRANSP:OPAQUE
END:VEVENT
END:VCALENDAR
