BEGIN:VCALENDAR
VERSION:2.0
METHOD:PUBLISH
BEGIN:VEVENT
DTSTART:20230909T120000Z
DTEND:20230909T180000Z
LOCATION:Kittanning, PA 16201
TRANSP: OPAQUE
SEQUENCE:0
UID:
DTSTAMP:20260419T082555Z
SUMMARY:Estate Liquidation Sale Part 2
DESCRIPTION:Estate Liquidation Sale Part 2 Williams & Barron Estate Services LLC 
UID:1776608755
STREET-ADDRESS:See website
POSTAL-CODE:16201
LOCALITY:Kittanning
REGION:ABBREV=PA
COUNTRY:ABBREV=US;ABBREV=USA:United States
URL;TYPE=Event Listing:https://estatesales.org/estate-sales/pa/kittanning/16201/estate-liquidation-sale-part-2-2228751
PRIORITY:1
CLASS:PUBLIC
SEQUENCE:0
STATUS:CONFIRMED
TRANSP:OPAQUE
END:VEVENT
END:VCALENDAR
