BEGIN:VCALENDAR
VERSION:2.0
METHOD:PUBLISH
BEGIN:VEVENT
DTSTART:20220909T140000Z
DTEND:20220910T180000Z
LOCATION:Longwood, FL 32779
TRANSP: OPAQUE
SEQUENCE:0
UID:
DTSTAMP:20260419T122035Z
SUMMARY:50% off Saturday! Antique Dealer in Longwood-Estate Sales In Orlando
DESCRIPTION:50% off Saturday! Antique Dealer in Longwood-Estate Sales In Orlando Estate Sale Stars 
UID:1776622835
STREET-ADDRESS:See website
POSTAL-CODE:32779
LOCALITY:Longwood
REGION:ABBREV=FL
COUNTRY:ABBREV=US;ABBREV=USA:United States
URL;TYPE=Event Listing:https://estatesales.org/estate-sales/fl/longwood/32779/50-off-saturday-antique-dealer-2075891
PRIORITY:1
CLASS:PUBLIC
SEQUENCE:0
STATUS:CONFIRMED
TRANSP:OPAQUE
END:VEVENT
END:VCALENDAR
