BEGIN:VCALENDAR
VERSION:2.0
METHOD:PUBLISH
BEGIN:VEVENT
DTSTART:20220909T120000Z
DTEND:20220910T190000Z
LOCATION:Rockland, ME 04841
TRANSP: OPAQUE
SEQUENCE:0
UID:
DTSTAMP:20260423T110436Z
SUMMARY:Rockland, Maine Estate Sale
DESCRIPTION:Rockland, Maine Estate Sale Seaboard Estate & Appraisal Services 
UID:1776963876
STREET-ADDRESS:See website
POSTAL-CODE:04841
LOCALITY:Rockland
REGION:ABBREV=ME
COUNTRY:ABBREV=US;ABBREV=USA:United States
URL;TYPE=Event Listing:https://estatesales.org/estate-sales/me/rockland/04841/rockland-maine-estate-sale-2090763
PRIORITY:1
CLASS:PUBLIC
SEQUENCE:0
STATUS:CONFIRMED
TRANSP:OPAQUE
END:VEVENT
END:VCALENDAR
