BEGIN:VCALENDAR
VERSION:2.0
METHOD:PUBLISH
BEGIN:VEVENT
DTSTART:20210909T160000Z
DTEND:20210912T220000Z
LOCATION:Denver, CO 80234
TRANSP: OPAQUE
SEQUENCE:0
UID:
DTSTAMP:20260419T113744Z
SUMMARY:Away It Goes Estate Sales
DESCRIPTION:Away It Goes Estate Sales AWAY IT GOES ESTATE SALES 
UID:1776620264
STREET-ADDRESS:See website
POSTAL-CODE:80234
LOCALITY:Denver
REGION:ABBREV=CO
COUNTRY:ABBREV=US;ABBREV=USA:United States
URL;TYPE=Event Listing:https://estatesales.org/estate-sales/co/northglenn/80234/away-it-goes-estate-sales-1954051
PRIORITY:1
CLASS:PUBLIC
SEQUENCE:0
STATUS:CONFIRMED
TRANSP:OPAQUE
END:VEVENT
END:VCALENDAR
