BEGIN:VCALENDAR
VERSION:2.0
METHOD:PUBLISH
BEGIN:VEVENT
DTSTART:20170909T150000Z
DTEND:20170909T210000Z
LOCATION:Thousand Oaks, CA 91360
TRANSP: OPAQUE
SEQUENCE:0
UID:
DTSTAMP:20260422T140626Z
SUMMARY:Thousand Oaks..
DESCRIPTION:Thousand Oaks.. Estate Sale Solutions - American Vintage 
UID:1776888386
STREET-ADDRESS:See website
POSTAL-CODE:91360
LOCALITY:Thousand Oaks
REGION:ABBREV=CA
COUNTRY:ABBREV=US;ABBREV=USA:United States
URL;TYPE=Event Listing:https://estatesales.org/estate-sales/ca/thousand-oaks/91360/thousand-oaks-1375671
PRIORITY:1
CLASS:PUBLIC
SEQUENCE:0
STATUS:CONFIRMED
TRANSP:OPAQUE
END:VEVENT
END:VCALENDAR
