BEGIN:VCALENDAR
VERSION:2.0
METHOD:PUBLISH
BEGIN:VEVENT
DTSTART:20150909T150000Z
DTEND:20150912T190000Z
LOCATION:Midlothian, TX 76065
TRANSP: OPAQUE
SEQUENCE:0
UID:
DTSTAMP:20260420T140751Z
SUMMARY:Midlothian Texas
DESCRIPTION:Midlothian Texas Honey Stop The Car Vintage 
UID:1776715671
STREET-ADDRESS:See website
POSTAL-CODE:76065
LOCALITY:Midlothian
REGION:ABBREV=TX
COUNTRY:ABBREV=US;ABBREV=USA:United States
URL;TYPE=Event Listing:https://estatesales.org/estate-sales/tx/midlothian/76065/midlothian-texas-641963
PRIORITY:1
CLASS:PUBLIC
SEQUENCE:0
STATUS:CONFIRMED
TRANSP:OPAQUE
END:VEVENT
END:VCALENDAR
