BEGIN:VCALENDAR
VERSION:2.0
METHOD:PUBLISH
BEGIN:VEVENT
DTSTART:20110909T150000Z
DTEND:20110910T230000Z
LOCATION:Los Angeles, CA 90019
TRANSP: OPAQUE
SEQUENCE:0
UID:
DTSTAMP:20260420T222147Z
SUMMARY:VERY VINTAGE ESTATE SALE!
DESCRIPTION:VERY VINTAGE ESTATE SALE! Retro Robin Estate Sales, LLC 
UID:1776745307
STREET-ADDRESS:See website
POSTAL-CODE:90019
LOCALITY:Los Angeles
REGION:ABBREV=CA
COUNTRY:ABBREV=US;ABBREV=USA:United States
URL;TYPE=Event Listing:https://estatesales.org/estate-sales/ca/los-angeles/90019/very-vintage-estate-sale-129243
PRIORITY:1
CLASS:PUBLIC
SEQUENCE:0
STATUS:CONFIRMED
TRANSP:OPAQUE
END:VEVENT
END:VCALENDAR
