BEGIN:VCALENDAR
VERSION:2.0
METHOD:PUBLISH
BEGIN:VEVENT
DTSTART:20180908T130000Z
DTEND:20180908T210000Z
LOCATION:New Rochelle, NY 10804
TRANSP: OPAQUE
SEQUENCE:0
UID:
DTSTAMP:20260424T071813Z
SUMMARY:One Day Blow-out Moving Sale in New Rochelle, NY this Saturday!!!
DESCRIPTION:One Day Blow-out Moving Sale in New Rochelle, NY this Saturday!!! Stephanie's Storage Sale 
UID:1777036693
STREET-ADDRESS:See website
POSTAL-CODE:10804
LOCALITY:New Rochelle
REGION:ABBREV=NY
COUNTRY:ABBREV=US;ABBREV=USA:United States
URL;TYPE=Event Listing:https://estatesales.org/estate-sales/ny/new-rochelle/10804/one-day-blowout-moving-sale-1566023
PRIORITY:1
CLASS:PUBLIC
SEQUENCE:0
STATUS:CONFIRMED
TRANSP:OPAQUE
END:VEVENT
END:VCALENDAR
