BEGIN:VCALENDAR
VERSION:2.0
METHOD:PUBLISH
BEGIN:VEVENT
DTSTART:20180908T150000Z
DTEND:20180910T000000Z
LOCATION:Sonoma, CA 95476
TRANSP: OPAQUE
SEQUENCE:0
UID:
DTSTAMP:20260421T124213Z
SUMMARY:Sonoma Farmhouse Yard/Garage Sale - Renovation and Remodel 
DESCRIPTION:Sonoma Farmhouse Yard/Garage Sale - Renovation and Remodel  Sonoma Farmhouse 
UID:1776796933
STREET-ADDRESS:See website
POSTAL-CODE:95476
LOCALITY:Sonoma
REGION:ABBREV=CA
COUNTRY:ABBREV=US;ABBREV=USA:United States
URL;TYPE=Event Listing:https://estatesales.org/estate-sales/ca/sonoma/95476/sonoma-farmhouse-yardgarage-sale-renovation-1566693
PRIORITY:1
CLASS:PUBLIC
SEQUENCE:0
STATUS:CONFIRMED
TRANSP:OPAQUE
END:VEVENT
END:VCALENDAR
