BEGIN:VCALENDAR
VERSION:2.0
METHOD:PUBLISH
BEGIN:VEVENT
DTSTART:20180908T120000Z
DTEND:20180909T190000Z
LOCATION:Saint Louis, MO 63125
TRANSP: OPAQUE
SEQUENCE:0
UID:
DTSTAMP:20260419T163822Z
SUMMARY:South County Estate Sale 60 year+ accumulation
DESCRIPTION:South County Estate Sale 60 year+ accumulation Lizzy Lou Estate Sales, LLC 
UID:1776638302
STREET-ADDRESS:See website
POSTAL-CODE:63125
LOCALITY:Saint Louis
REGION:ABBREV=MO
COUNTRY:ABBREV=US;ABBREV=USA:United States
URL;TYPE=Event Listing:https://estatesales.org/estate-sales/mo/saint-louis/63125/south-county-estate-sale-60-1560501
PRIORITY:1
CLASS:PUBLIC
SEQUENCE:0
STATUS:CONFIRMED
TRANSP:OPAQUE
END:VEVENT
END:VCALENDAR
