BEGIN:VCALENDAR
VERSION:2.0
METHOD:PUBLISH
BEGIN:VEVENT
DTSTART:20170908T140000Z
DTEND:20170910T190000Z
LOCATION:Purcellville, VA 20132
TRANSP: OPAQUE
SEQUENCE:0
UID:
DTSTAMP:20260424T133524Z
SUMMARY:Collectibles on Purcellville!
DESCRIPTION:Collectibles on Purcellville! Great Estate Solutions 
UID:1777059324
STREET-ADDRESS:See website
POSTAL-CODE:20132
LOCALITY:Purcellville
REGION:ABBREV=VA
COUNTRY:ABBREV=US;ABBREV=USA:United States
URL;TYPE=Event Listing:https://estatesales.org/estate-sales/va/purcellville/20132/collectibles-on-purcellville-1376519
PRIORITY:1
CLASS:PUBLIC
SEQUENCE:0
STATUS:CONFIRMED
TRANSP:OPAQUE
END:VEVENT
END:VCALENDAR
