BEGIN:VCALENDAR
VERSION:2.0
METHOD:PUBLISH
BEGIN:VEVENT
DTSTART:20250907T193000Z
DTEND:20250907T230000Z
LOCATION:Oklahoma City, OK 73110
TRANSP: OPAQUE
SEQUENCE:0
UID:
DTSTAMP:20260424T054807Z
SUMMARY:Sunday 75% off super liquidation estate sale
DESCRIPTION:Sunday 75% off super liquidation estate sale Justice Estate Liquidations 
UID:1777031287
STREET-ADDRESS:See website
POSTAL-CODE:73110
LOCALITY:Oklahoma City
REGION:ABBREV=OK
COUNTRY:ABBREV=US;ABBREV=USA:United States
URL;TYPE=Event Listing:https://estatesales.org/estate-sales/ok/midwest-city-/73110/sunday-75-off-super-liquidation-2400175
PRIORITY:1
CLASS:PUBLIC
SEQUENCE:0
STATUS:CONFIRMED
TRANSP:OPAQUE
END:VEVENT
END:VCALENDAR
