BEGIN:VCALENDAR
VERSION:2.0
METHOD:PUBLISH
BEGIN:VEVENT
DTSTART:20230907T140000Z
DTEND:20230910T190000Z
LOCATION:Okauchee, WI 53069
TRANSP: OPAQUE
SEQUENCE:0
UID:
DTSTAMP:20260420T005358Z
SUMMARY:Okauchee Lake Estate ““ Outstanding Primitives, Furniture & Antiques. 
DESCRIPTION:Okauchee Lake Estate ““ Outstanding Primitives, Furniture & Antiques. 
UID:1776668038
STREET-ADDRESS:See website
POSTAL-CODE:53069
LOCALITY:Okauchee
REGION:ABBREV=WI
COUNTRY:ABBREV=US;ABBREV=USA:United States
URL;TYPE=Event Listing:https://estatesales.org/estate-sales/wi/okauchee-lake/53069/okauchee-lake-estate-outstanding-primitives-2223953
PRIORITY:1
CLASS:PUBLIC
SEQUENCE:0
STATUS:CONFIRMED
TRANSP:OPAQUE
END:VEVENT
END:VCALENDAR
