BEGIN:VCALENDAR
VERSION:2.0
METHOD:PUBLISH
BEGIN:VEVENT
DTSTART:20230907T120000Z
DTEND:20230909T200000Z
LOCATION:Springdale, AR 72762
TRANSP: OPAQUE
SEQUENCE:0
UID:
DTSTAMP:20260419T122035Z
SUMMARY:ReDesigning Women Estate Sales - Living Estate Sale at 5796 Schio Ave in Springdale, AR
DESCRIPTION:ReDesigning Women Estate Sales - Living Estate Sale at 5796 Schio Ave in Springdale, AR ReDesigning Women Estate Sales 
UID:1776622835
STREET-ADDRESS:See website
POSTAL-CODE:72762
LOCALITY:Springdale
REGION:ABBREV=AR
COUNTRY:ABBREV=US;ABBREV=USA:United States
URL;TYPE=Event Listing:https://estatesales.org/estate-sales/ar/springdale/72762/redesigning-women-estate-sales-living-2228213
PRIORITY:1
CLASS:PUBLIC
SEQUENCE:0
STATUS:CONFIRMED
TRANSP:OPAQUE
END:VEVENT
END:VCALENDAR
