BEGIN:VCALENDAR
VERSION:2.0
METHOD:PUBLISH
BEGIN:VEVENT
DTSTART:20230907T230000Z
DTEND:20230910T220000Z
LOCATION:Duncan, OK 73533
TRANSP: OPAQUE
SEQUENCE:0
UID:
DTSTAMP:20260425T164632Z
SUMMARY:Green Girls’ at 280169 E. 1770 Road, Duncan,OK
DESCRIPTION:Green Girls’ at 280169 E. 1770 Road, Duncan,OK Green Girls' Estate Sales LLC 
UID:1777157192
STREET-ADDRESS:See website
POSTAL-CODE:73533
LOCALITY:Duncan
REGION:ABBREV=OK
COUNTRY:ABBREV=US;ABBREV=USA:United States
URL;TYPE=Event Listing:https://estatesales.org/estate-sales/ok/duncan/73533/green-girls-at-280169-e-2228131
PRIORITY:1
CLASS:PUBLIC
SEQUENCE:0
STATUS:CONFIRMED
TRANSP:OPAQUE
END:VEVENT
END:VCALENDAR
