BEGIN:VCALENDAR
VERSION:2.0
METHOD:PUBLISH
BEGIN:VEVENT
DTSTART:20120907T170000Z
DTEND:20120909T230000Z
LOCATION:San Mateo, CA 94403
TRANSP: OPAQUE
SEQUENCE:0
UID:
DTSTAMP:20260424T121810Z
SUMMARY:BIG!!! Estate Sale in San Mateo
DESCRIPTION:BIG!!! Estate Sale in San Mateo S&S ESTATE SALES 
UID:1777054690
STREET-ADDRESS:See website
POSTAL-CODE:94403
LOCALITY:San Mateo
REGION:ABBREV=CA
COUNTRY:ABBREV=US;ABBREV=USA:United States
URL;TYPE=Event Listing:https://estatesales.org/estate-sales/ca/san-mateo/94403/big-estate-sale-in-san-212767
PRIORITY:1
CLASS:PUBLIC
SEQUENCE:0
STATUS:CONFIRMED
TRANSP:OPAQUE
END:VEVENT
END:VCALENDAR
