BEGIN:VCALENDAR
VERSION:2.0
METHOD:PUBLISH
BEGIN:VEVENT
DTSTART:20250906T150000Z
DTEND:20250907T200000Z
LOCATION:Greeley, CO 80634
TRANSP: OPAQUE
SEQUENCE:0
UID:
DTSTAMP:20260420T044041Z
SUMMARY:Norton Moving Sale - Greeley
DESCRIPTION:Norton Moving Sale - Greeley Blue Moon Estate Sales NoCO 
UID:1776681641
STREET-ADDRESS:See website
POSTAL-CODE:80634
LOCALITY:Greeley
REGION:ABBREV=CO
COUNTRY:ABBREV=US;ABBREV=USA:United States
URL;TYPE=Event Listing:https://estatesales.org/estate-sales/co/greeley/80634/norton-moving-sale-greeley-2394477
PRIORITY:1
CLASS:PUBLIC
SEQUENCE:0
STATUS:CONFIRMED
TRANSP:OPAQUE
END:VEVENT
END:VCALENDAR
