BEGIN:VCALENDAR
VERSION:2.0
METHOD:PUBLISH
BEGIN:VEVENT
DTSTART:20250906T150000Z
DTEND:20250907T190000Z
LOCATION:Bakersfield, CA 93308
TRANSP: OPAQUE
SEQUENCE:0
UID:
DTSTAMP:20260422T120332Z
SUMMARY:Estate Sale-Sewing Enthusiasts!!! North Bakersfield
DESCRIPTION:Estate Sale-Sewing Enthusiasts!!! North Bakersfield Complete Estate Management 
UID:1776881012
STREET-ADDRESS:See website
POSTAL-CODE:93308
LOCALITY:Bakersfield
REGION:ABBREV=CA
COUNTRY:ABBREV=US;ABBREV=USA:United States
URL;TYPE=Event Listing:https://estatesales.org/estate-sales/ca/bakersfield-/93308/estate-salesewing-enthusiasts-north-bakersfield-2399257
PRIORITY:1
CLASS:PUBLIC
SEQUENCE:0
STATUS:CONFIRMED
TRANSP:OPAQUE
END:VEVENT
END:VCALENDAR
