BEGIN:VCALENDAR
VERSION:2.0
METHOD:PUBLISH
BEGIN:VEVENT
DTSTART:20240906T130000Z
DTEND:20240908T190000Z
LOCATION:Rogers, AR 72758
TRANSP: OPAQUE
SEQUENCE:0
UID:
DTSTAMP:20260425T074138Z
SUMMARY:GREAT Estate Sale in Rogers, AR!
DESCRIPTION:GREAT Estate Sale in Rogers, AR! NWA Estate Sales 
UID:1777124498
STREET-ADDRESS:See website
POSTAL-CODE:72758
LOCALITY:Rogers
REGION:ABBREV=AR
COUNTRY:ABBREV=US;ABBREV=USA:United States
URL;TYPE=Event Listing:https://estatesales.org/estate-sales/ar/rogers-/72758/great-estate-sale-in-rogers-2337487
PRIORITY:1
CLASS:PUBLIC
SEQUENCE:0
STATUS:CONFIRMED
TRANSP:OPAQUE
END:VEVENT
END:VCALENDAR
