BEGIN:VCALENDAR
VERSION:2.0
METHOD:PUBLISH
BEGIN:VEVENT
DTSTART:20190906T140000Z
DTEND:20190908T190000Z
LOCATION:Waterford, VA 20197
TRANSP: OPAQUE
SEQUENCE:0
UID:
DTSTAMP:20260424T133519Z
SUMMARY:WILDLY WONDERFUL WATERFORD SALE
DESCRIPTION:WILDLY WONDERFUL WATERFORD SALE Great Estate Solutions 
UID:1777059319
STREET-ADDRESS:See website
POSTAL-CODE:20197
LOCALITY:Waterford
REGION:ABBREV=VA
COUNTRY:ABBREV=US;ABBREV=USA:United States
URL;TYPE=Event Listing:https://estatesales.org/estate-sales/va/waterford/20197/wildly-wonderful-waterford-sale-1707443
PRIORITY:1
CLASS:PUBLIC
SEQUENCE:0
STATUS:CONFIRMED
TRANSP:OPAQUE
END:VEVENT
END:VCALENDAR
