BEGIN:VCALENDAR
VERSION:2.0
METHOD:PUBLISH
BEGIN:VEVENT
DTSTART:20190906T084200Z
DTEND:20190914T023200Z
LOCATION:Sicklerville, NJ 08081
TRANSP: OPAQUE
SEQUENCE:0
UID:
DTSTAMP:20260422T054953Z
SUMMARY:Sicklerville Downsizing Online Estate Auction - Antiques, Jewelry, Decor, Dolls, Tools, Trains, and even a Wedding Dress!
DESCRIPTION:Sicklerville Downsizing Online Estate Auction - Antiques, Jewelry, Decor, Dolls, Tools, Trains, and even a Wedding Dress! Treasure Me Estate Sales 1-800-NOT-JUNK Free Consults 
UID:1776858593
STREET-ADDRESS:See website
POSTAL-CODE:08081
LOCALITY:Sicklerville
REGION:ABBREV=NJ
COUNTRY:ABBREV=US;ABBREV=USA:United States
URL;TYPE=Event Listing:https://estatesales.org/estate-sales/nj/sicklerville/08081/sicklerville-downsizing-online-estate-auction-1702833
PRIORITY:1
CLASS:PUBLIC
SEQUENCE:0
STATUS:CONFIRMED
TRANSP:OPAQUE
END:VEVENT
END:VCALENDAR
