BEGIN:VCALENDAR
VERSION:2.0
METHOD:PUBLISH
BEGIN:VEVENT
DTSTART:20250905T140000Z
DTEND:20250906T210000Z
LOCATION:Appleton, WI 54914
TRANSP: OPAQUE
SEQUENCE:0
UID:
DTSTAMP:20260424T213718Z
SUMMARY:Appleton Estate sale, family run, Friday 09/05-Saturday 09/06
DESCRIPTION:Appleton Estate sale, family run, Friday 09/05-Saturday 09/06 Estate Sale Squad LLC 
UID:1777088238
STREET-ADDRESS:See website
POSTAL-CODE:54914
LOCALITY:Appleton
REGION:ABBREV=WI
COUNTRY:ABBREV=US;ABBREV=USA:United States
URL;TYPE=Event Listing:https://estatesales.org/estate-sales/wi/appleton/54914/appleton-estate-sale-family-run-2399381
PRIORITY:1
CLASS:PUBLIC
SEQUENCE:0
STATUS:CONFIRMED
TRANSP:OPAQUE
END:VEVENT
END:VCALENDAR
