BEGIN:VCALENDAR
VERSION:2.0
METHOD:PUBLISH
BEGIN:VEVENT
DTSTART:20250905T130000Z
DTEND:20250906T190000Z
LOCATION:Webster, NY 14580
TRANSP: OPAQUE
SEQUENCE:0
UID:
DTSTAMP:20260425T113010Z
SUMMARY:Downsizing Sale! Lots of nice items. Come to a 2 day sale only.
DESCRIPTION:Downsizing Sale! Lots of nice items. Come to a 2 day sale only. Grasons Finger Lakes North, NY 
UID:1777138210
STREET-ADDRESS:See website
POSTAL-CODE:14580
LOCALITY:Webster
REGION:ABBREV=NY
COUNTRY:ABBREV=US;ABBREV=USA:United States
URL;TYPE=Event Listing:https://estatesales.org/estate-sales/ny/webster/14580/downsizing-sale-lots-of-nice-2398209
PRIORITY:1
CLASS:PUBLIC
SEQUENCE:0
STATUS:CONFIRMED
TRANSP:OPAQUE
END:VEVENT
END:VCALENDAR
