BEGIN:VCALENDAR
VERSION:2.0
METHOD:PUBLISH
BEGIN:VEVENT
DTSTART:20250905T150000Z
DTEND:20250907T210000Z
LOCATION:Tulare, CA 93274
TRANSP: OPAQUE
SEQUENCE:0
UID:
DTSTAMP:20260422T045938Z
SUMMARY:Full Estate Extravaganza
DESCRIPTION:Full Estate Extravaganza Golden Estate Sales 
UID:1776855578
STREET-ADDRESS:See website
POSTAL-CODE:93274
LOCALITY:Tulare
REGION:ABBREV=CA
COUNTRY:ABBREV=US;ABBREV=USA:United States
URL;TYPE=Event Listing:https://estatesales.org/estate-sales/ca/tulare-/93274/full-estate-extravaganza-2399253
PRIORITY:1
CLASS:PUBLIC
SEQUENCE:0
STATUS:CONFIRMED
TRANSP:OPAQUE
END:VEVENT
END:VCALENDAR
