BEGIN:VCALENDAR
VERSION:2.0
METHOD:PUBLISH
BEGIN:VEVENT
DTSTART:20250905T120000Z
DTEND:20250907T170000Z
LOCATION:Sicklerville, NJ 08081
TRANSP: OPAQUE
SEQUENCE:0
UID:
DTSTAMP:20260419T195048Z
SUMMARY:50% OFF Sicklerville Estate Sale
DESCRIPTION:50% OFF Sicklerville Estate Sale Saving Grace Estate Sales 
UID:1776649848
STREET-ADDRESS:See website
POSTAL-CODE:08081
LOCALITY:Sicklerville
REGION:ABBREV=NJ
COUNTRY:ABBREV=US;ABBREV=USA:United States
URL;TYPE=Event Listing:https://estatesales.org/estate-sales/nj/sicklerville/08081/september-in-sicklerville-estate-sale-2397719
PRIORITY:1
CLASS:PUBLIC
SEQUENCE:0
STATUS:CONFIRMED
TRANSP:OPAQUE
END:VEVENT
END:VCALENDAR
