BEGIN:VCALENDAR
VERSION:2.0
METHOD:PUBLISH
BEGIN:VEVENT
DTSTART:20230905T180000Z
DTEND:20230908T203000Z
LOCATION:By appointment only.
TRANSP: OPAQUE
SEQUENCE:0
UID:
DTSTAMP:20260420T021550Z
SUMMARY:Deals on Collections Of  ART, Vintage Electric Guitars, Amps, Key Boards, Snow Boards.
DESCRIPTION:Deals on Collections Of  ART, Vintage Electric Guitars, Amps, Key Boards, Snow Boards. Triumphant Estate Sales of Los Angeles 
UID:1776672950
STREET-ADDRESS:See website
POSTAL-CODE:90066
LOCALITY:Los Angeles
REGION:ABBREV=CA
COUNTRY:ABBREV=US;ABBREV=USA:United States
URL;TYPE=Event Listing:https://estatesales.org/estate-sales/ca/los-angeles/90066/deals-on-collections-of-art-2227219
PRIORITY:1
CLASS:PUBLIC
SEQUENCE:0
STATUS:CONFIRMED
TRANSP:OPAQUE
END:VEVENT
END:VCALENDAR
