BEGIN:VCALENDAR
VERSION:2.0
METHOD:PUBLISH
BEGIN:VEVENT
DTSTART:20140905T170000Z
DTEND:20140909T230000Z
LOCATION:Los Angeles, CA 90077
TRANSP: OPAQUE
SEQUENCE:0
UID:
DTSTAMP:20260424T202551Z
SUMMARY:Bel Air Estate
DESCRIPTION:Bel Air Estate Sharon Yost Estate Sales 
UID:1777083951
STREET-ADDRESS:See website
POSTAL-CODE:90077
LOCALITY:Los Angeles
REGION:ABBREV=CA
COUNTRY:ABBREV=US;ABBREV=USA:United States
URL;TYPE=Event Listing:https://estatesales.org/estate-sales/ca/los-angeles/90077/bel-air-estate-446708
PRIORITY:1
CLASS:PUBLIC
SEQUENCE:0
STATUS:CONFIRMED
TRANSP:OPAQUE
END:VEVENT
END:VCALENDAR
