BEGIN:VCALENDAR
VERSION:2.0
METHOD:PUBLISH
BEGIN:VEVENT
DTSTART:20130905T200000Z
DTEND:20130906T010000Z
LOCATION:Richmond, CA 94804
TRANSP: OPAQUE
SEQUENCE:0
UID:
DTSTAMP:20260424T121918Z
SUMMARY:ONE MORE DAY BIG CLEARANCE
DESCRIPTION:ONE MORE DAY BIG CLEARANCE S&S ESTATE SALES 
UID:1777054758
STREET-ADDRESS:See website
POSTAL-CODE:94804
LOCALITY:Richmond
REGION:ABBREV=CA
COUNTRY:ABBREV=US;ABBREV=USA:United States
URL;TYPE=Event Listing:https://estatesales.org/estate-sales/ca/richmond/94804/one-more-day-big-clearance-318676
PRIORITY:1
CLASS:PUBLIC
SEQUENCE:0
STATUS:CONFIRMED
TRANSP:OPAQUE
END:VEVENT
END:VCALENDAR
