BEGIN:VCALENDAR
VERSION:2.0
METHOD:PUBLISH
BEGIN:VEVENT
DTSTART:20210904T160000Z
DTEND:20210906T210000Z
LOCATION:Aptos, CA 95003
TRANSP: OPAQUE
SEQUENCE:0
UID:
DTSTAMP:20260421T115722Z
SUMMARY: Pinehurst Estate Sale
DESCRIPTION: Pinehurst Estate Sale A Move Made SImple 
UID:1776794242
STREET-ADDRESS:See website
POSTAL-CODE:95003
LOCALITY:Aptos
REGION:ABBREV=CA
COUNTRY:ABBREV=US;ABBREV=USA:United States
URL;TYPE=Event Listing:https://estatesales.org/estate-sales/ca/aptos/95003/pinehurst-estate-sale-1953233
PRIORITY:1
CLASS:PUBLIC
SEQUENCE:0
STATUS:CONFIRMED
TRANSP:OPAQUE
END:VEVENT
END:VCALENDAR
