BEGIN:VCALENDAR
VERSION:2.0
METHOD:PUBLISH
BEGIN:VEVENT
DTSTART:20200904T130000Z
DTEND:20200906T210000Z
LOCATION:Utica, KY 42376
TRANSP: OPAQUE
SEQUENCE:0
UID:
DTSTAMP:20260424T121832Z
SUMMARY:Ernie Wallace Home and Small Farm Equipment Estate Sale
DESCRIPTION:Ernie Wallace Home and Small Farm Equipment Estate Sale Spay A Stray. 
UID:1777054712
STREET-ADDRESS:See website
POSTAL-CODE:42376
LOCALITY:Utica
REGION:ABBREV=KY
COUNTRY:ABBREV=US;ABBREV=USA:United States
URL;TYPE=Event Listing:https://estatesales.org/estate-sales/ky/utica-/42376/ernie-wallace-home-and-small-1817715
PRIORITY:1
CLASS:PUBLIC
SEQUENCE:0
STATUS:CONFIRMED
TRANSP:OPAQUE
END:VEVENT
END:VCALENDAR
