BEGIN:VCALENDAR
VERSION:2.0
METHOD:PUBLISH
BEGIN:VEVENT
DTSTART:20240901T150000Z
DTEND:20240901T180000Z
LOCATION:Seminole, FL 33777
TRANSP: OPAQUE
SEQUENCE:0
UID:
DTSTAMP:20260419T061834Z
SUMMARY:LAST CALL SEMINOLE! ALL MUST GO
DESCRIPTION:LAST CALL SEMINOLE! ALL MUST GO B&B Estate Sales and Appraisals 
UID:1776601114
STREET-ADDRESS:See website
POSTAL-CODE:33777
LOCALITY:Seminole
REGION:ABBREV=FL
COUNTRY:ABBREV=US;ABBREV=USA:United States
URL;TYPE=Event Listing:https://estatesales.org/estate-sales/fl/seminole-/33777/last-call-seminole-all-must-2336149
PRIORITY:1
CLASS:PUBLIC
SEQUENCE:0
STATUS:CONFIRMED
TRANSP:OPAQUE
END:VEVENT
END:VCALENDAR
