BEGIN:VCALENDAR
VERSION:2.0
METHOD:PUBLISH
BEGIN:VEVENT
DTSTART:20230901T130000Z
DTEND:20230902T180000Z
LOCATION:Providence, RI 02909
TRANSP: OPAQUE
SEQUENCE:0
UID:
DTSTAMP:20260420T012552Z
SUMMARY:Providence Picker's Sale
DESCRIPTION:Providence Picker's Sale Hidden Treasures Estate Sales & Cleanouts 
UID:1776669952
STREET-ADDRESS:See website
POSTAL-CODE:02909
LOCALITY:Providence
REGION:ABBREV=RI
COUNTRY:ABBREV=US;ABBREV=USA:United States
URL;TYPE=Event Listing:https://estatesales.org/estate-sales/ri/providence/02909/providence-pickers-sale-2224279
PRIORITY:1
CLASS:PUBLIC
SEQUENCE:0
STATUS:CONFIRMED
TRANSP:OPAQUE
END:VEVENT
END:VCALENDAR
