BEGIN:VCALENDAR
VERSION:2.0
METHOD:PUBLISH
BEGIN:VEVENT
DTSTART:20230901T140000Z
DTEND:20230902T220000Z
LOCATION:Colorado Springs, CO 80919
TRANSP: OPAQUE
SEQUENCE:0
UID:
DTSTAMP:20260420T204640Z
SUMMARY:All very nice but all must go! 
DESCRIPTION:All very nice but all must go!  Total Care Estate and Property Services 
UID:1776739600
STREET-ADDRESS:See website
POSTAL-CODE:80919
LOCALITY:Colorado Springs
REGION:ABBREV=CO
COUNTRY:ABBREV=US;ABBREV=USA:United States
URL;TYPE=Event Listing:https://estatesales.org/estate-sales/co/colorado-springs-/80919/all-very-nice-but-all-2225007
PRIORITY:1
CLASS:PUBLIC
SEQUENCE:0
STATUS:CONFIRMED
TRANSP:OPAQUE
END:VEVENT
END:VCALENDAR
